{
 "version": 1.0,
 "tileBundlesPath": "./tile",
 "storageInfo": {
  "packetSize": 128,
  "storageFormat": "esriMapCacheStorageModeCompactV2"
 },
 "tileImageInfo": {
  "format": "PNG8",
  "compressionQuality": 0,
  "bandCount": 1,
  "lercError": 0
 },
 "tileInfo": {
  "spatialReference": {
   "wkid": 102100,
   "latestWkid": 3857
  },
  "origin": {
   "x": -2.0037508342787E7,
   "y": 2.0037508342787E7
  },
  "rows": 256,
  "cols": 256,
  "dpi": 96,
  "lods": [
   {
    "level": 0,
    "resolution": 156543.033928,
    "scale": 5.91657527591555E8
   },
   {
    "level": 1,
    "resolution": 78271.5169639999,
    "scale": 2.95828763795777E8
   },
   {
    "level": 2,
    "resolution": 39135.7584820001,
    "scale": 1.47914381897889E8
   },
   {
    "level": 3,
    "resolution": 19567.8792409999,
    "scale": 7.3957190948944E7
   },
   {
    "level": 4,
    "resolution": 9783.93962049996,
    "scale": 3.6978595474472E7
   },
   {
    "level": 5,
    "resolution": 4891.96981024998,
    "scale": 1.8489297737236E7
   },
   {
    "level": 6,
    "resolution": 2445.98490512499,
    "scale": 9244648.868618
   },
   {
    "level": 7,
    "resolution": 1222.99245256249,
    "scale": 4622324.434309
   },
   {
    "level": 8,
    "resolution": 611.49622628138,
    "scale": 2311162.217155
   },
   {
    "level": 9,
    "resolution": 305.748113140558,
    "scale": 1155581.108577
   },
   {
    "level": 10,
    "resolution": 152.874056570411,
    "scale": 577790.554289
   },
   {
    "level": 11,
    "resolution": 76.4370282850732,
    "scale": 288895.277144
   },
   {
    "level": 12,
    "resolution": 38.2185141425366,
    "scale": 144447.638572
   },
   {
    "level": 13,
    "resolution": 19.1092570712683,
    "scale": 72223.819286
   },
   {
    "level": 14,
    "resolution": 9.55462853563415,
    "scale": 36111.909643
   },
   {
    "level": 15,
    "resolution": 4.77731426794937,
    "scale": 18055.954822
   },
   {
    "level": 16,
    "resolution": 2.38865713397468,
    "scale": 9027.977411
   },
   {
    "level": 17,
    "resolution": 1.19432856685505,
    "scale": 4513.988705
   },
   {
    "level": 18,
    "resolution": 0.597164283559817,
    "scale": 2256.994353
   },
   {
    "level": 19,
    "resolution": 0.298582141647617,
    "scale": 1128.497176
   },
   {
    "level": 20,
    "resolution": 0.14929107082380833,
    "scale": 564.248588
   },
   {
    "level": 21,
    "resolution": 0.07464553541190416,
    "scale": 282.124294
   },
   {
    "level": 22,
    "resolution": 0.03732276770595208,
    "scale": 141.062147
   },
   {
    "level": 23,
    "resolution": 0.01866138385297604,
    "scale": 70.5310735
   }
  ],
  "format": "PNG8",
  "compressionQuality": 0,
  "bandCount": 1,
  "lercError": 0,
  "storageFormat": "esriMapCacheStorageModeCompactV2",
  "packetSize": 128
 },
 "name": "Geomorphons",
 "serviceDescription": "",
 "spatialReference": {
  "wkid": 102100,
  "latestWkid": 3857,
  "xyTolerance": 0.001,
  "zTolerance": 0.001,
  "mTolerance": 0.001,
  "falseX": -20037700,
  "falseY": -30241100,
  "xyUnits": 1.4892314192838538E8,
  "falseZ": -100000,
  "zUnits": 10000,
  "falseM": -100000,
  "mUnits": 10000
 },
 "units": "esriMeters",
 "minLOD": 10,
 "maxLOD": 17,
 "resampling": true,
 "layers": [
  {
   "id": 15,
   "name": "Geomorphons",
   "parentLayerId": -1,
   "defaultVisibility": true,
   "subLayerIds": null,
   "minScale": 0,
   "maxScale": 0,
   "type": "Raster Layer",
   "supportsDynamicLegends": true,
   "legend": [
    {
     "label": "Flat",
     "imageData": "iVBORw0KGgoAAAANSUhEUgAAABQAAAAUCAYAAACNiR0NAAAACXBIWXMAAA7EAAAOxAGVKw4bAAAAQElEQVQ4jWNhoDJgoZmBDx8+/E+JQfLy8owoBlILsIwaSDFgodwIVDBqIOWAhQpmoIBRAykH8DCElWdUM5BaAADPwwSvcR5UtAAAAABJRU5ErkJggg==",
     "contentType": "image/png",
     "groupId": "0",
     "height": 20,
     "width": 20,
     "layerId": 15,
     "layerName": "Geomorphons"
    },
    {
     "label": "Summit",
     "imageData": "iVBORw0KGgoAAAANSUhEUgAAABQAAAAUCAYAAACNiR0NAAAACXBIWXMAAA7EAAAOxAGVKw4bAAAAQElEQVQ4jWNhoDJgoZmB7QuO/KfEoMoEG0YUA6kFWEYNpBiwUG4EKhg1kHLAQgUzUMCogZQDeBjCyjOqGUgtAAAPTwVniNVliAAAAABJRU5ErkJggg==",
     "contentType": "image/png",
     "groupId": "0",
     "height": 20,
     "width": 20,
     "layerId": 15,
     "layerName": "Geomorphons"
    },
    {
     "label": "Ridge",
     "imageData": "iVBORw0KGgoAAAANSUhEUgAAABQAAAAUCAYAAACNiR0NAAAACXBIWXMAAA7EAAAOxAGVKw4bAAAAQElEQVQ4jWNhoDJgoZmBK3cf/0+JQeGulowoBlILsIwaSDFgodwIVDBqIOWAhQpmoIBRAykH8DCElWdUM5BaAAD5IQUnsYCGMgAAAABJRU5ErkJggg==",
     "contentType": "image/png",
     "groupId": "0",
     "height": 20,
     "width": 20,
     "layerId": 15,
     "layerName": "Geomorphons"
    },
    {
     "label": "Shoulder",
     "imageData": "iVBORw0KGgoAAAANSUhEUgAAABQAAAAUCAYAAACNiR0NAAAACXBIWXMAAA7EAAAOxAGVKw4bAAAAQElEQVQ4jWNhoDJgoZmBp66e+k+JQWbaZowoBlILsIwaSDFgodwIVDBqIOWAhQpmoIBRAykH8DCElWdUM5BaAADjswTpuQIsUQAAAABJRU5ErkJggg==",
     "contentType": "image/png",
     "groupId": "0",
     "height": 20,
     "width": 20,
     "layerId": 15,
     "layerName": "Geomorphons"
    },
    {
     "label": "Spur",
     "imageData": "iVBORw0KGgoAAAANSUhEUgAAABQAAAAUCAYAAACNiR0NAAAACXBIWXMAAA7EAAAOxAGVKw4bAAAAQElEQVQ4jWNhoDJgoZmBrz6e+U+JQWL8JowoBlILsIwaSDFgodwIVDBqIOWAhQpmoIBRAykH8DCElWdUM5BaAADORQSrqGZ09QAAAABJRU5ErkJggg==",
     "contentType": "image/png",
     "groupId": "0",
     "height": 20,
     "width": 20,
     "layerId": 15,
     "layerName": "Geomorphons"
    },
    {
     "label": "Slope",
     "imageData": "iVBORw0KGgoAAAANSUhEUgAAABQAAAAUCAYAAACNiR0NAAAACXBIWXMAAA7EAAAOxAGVKw4bAAAAQElEQVQ4jWNhoDJgoZmBv97s+k+JQWwibowoBlILsIwaSDFgodwIVDBqIOWAhQpmoIBRAykH8DCElWdUM5BaAADQiwSyw/GQcAAAAABJRU5ErkJggg==",
     "contentType": "image/png",
     "groupId": "0",
     "height": 20,
     "width": 20,
     "layerId": 15,
     "layerName": "Geomorphons"
    },
    {
     "label": "Hollow",
     "imageData": "iVBORw0KGgoAAAANSUhEUgAAABQAAAAUCAYAAACNiR0NAAAACXBIWXMAAA7EAAAOxAGVKw4bAAAAQElEQVQ4jWNhoDJgoZmBP49N/0+JQexWmYwoBlILsIwaSDFgodwIVDBqIOWAhQpmoIBRAykH8DCElWdUM5BaAADp2QT8w9HaEAAAAABJRU5ErkJggg==",
     "contentType": "image/png",
     "groupId": "0",
     "height": 20,
     "width": 20,
     "layerId": 15,
     "layerName": "Geomorphons"
    },
    {
     "label": "Footslope",
     "imageData": "iVBORw0KGgoAAAANSUhEUgAAABQAAAAUCAYAAACNiR0NAAAACXBIWXMAAA7EAAAOxAGVKw4bAAAAQElEQVQ4jWNhoDJgoZmBX+aX/KfEIJ7EHkYUA6kFWEYNpBiwUG4EKhg1kHLAQgUzUMCogZQDeBjCyjOqGUgtAAAE8gVLr2pySQAAAABJRU5ErkJggg==",
     "contentType": "image/png",
     "groupId": "0",
     "height": 20,
     "width": 20,
     "layerId": 15,
     "layerName": "Geomorphons"
    },
    {
     "label": "Valley",
     "imageData": "iVBORw0KGgoAAAANSUhEUgAAABQAAAAUCAYAAACNiR0NAAAACXBIWXMAAA7EAAAOxAGVKw4bAAAAQElEQVQ4jWNhoDJgoZmBb8qC/1NikEjXWkYUA6kFWEYNpBiwUG4EKhg1kHLAQgUzUMCogZQDeBjCyjOqGUgtAAAhCQWdHEKIIwAAAABJRU5ErkJggg==",
     "contentType": "image/png",
     "groupId": "0",
     "height": 20,
     "width": 20,
     "layerId": 15,
     "layerName": "Geomorphons"
    },
    {
     "label": "Depression",
     "imageData": "iVBORw0KGgoAAAANSUhEUgAAABQAAAAUCAYAAACNiR0NAAAACXBIWXMAAA7EAAAOxAGVKw4bAAAAQElEQVQ4jWNhoDJgoZmBD1xN/1NikMLu04woBlILsIwaSDFgodwIVDBqIOWAhQpmoIBRAykH8DCElWdUM5BaAABAPwX4gTSidgAAAABJRU5ErkJggg==",
     "contentType": "image/png",
     "groupId": "0",
     "height": 20,
     "width": 20,
     "layerId": 15,
     "layerName": "Geomorphons"
    }
   ],
   "layerId": 15,
   "layerName": "Geomorphons",
   "serviceItemId": "a81dc70883c144e5a54bcea97e84a455"
  }
 ],
 "initialExtent": {
  "xmin": -1.3704120873976992E7,
  "ymin": 4672476.810565217,
  "xmax": -1.3616117275273995E7,
  "ymax": 4806495.035339069,
  "spatialReference": {
   "wkid": 102100,
   "latestWkid": 3857
  }
 },
 "fullExtent": {
  "xmin": -1.3704120873976992E7,
  "ymin": 4672476.810565217,
  "xmax": -1.3616117275273995E7,
  "ymax": 4806495.035339069,
  "spatialReference": {
   "wkid": 102100,
   "latestWkid": 3857
  }
 },
 "minScale": 0,
 "maxScale": 0,
 "exportTilesAllowed": false,
 "maxExportTilesCount": 0,
 "currentVersion": 11.4,
 "mapName": "Geomorphons",
 "singleFusedMapCache": true,
 "type": "MapServer",
 "supportedExtensions": "",
 "capabilities": "TilesOnly,Tilemap",
 "serviceItemId": "a81dc70883c144e5a54bcea97e84a455"
}
